BEGIN:VCALENDAR
VERSION:2.0
PRODID:-//theopenlink.org//NONSGML kigkonsult.se iCalcreator 2.30.10//
CALSCALE:GREGORIAN
METHOD:PUBLISH
UID:b1139b16-0856-4d73-a501-41b02ebe9357
X-WR-CALDESC:Sue Pummer will lead us in a fun fiber art technique where we 
 will sculpt wool into a charming\nthree-dimensional mushroom. This is a re
 laxing\, beginner-friendly craft. Complex sculptures\ncan be mastered with
  practice and patience. Donations Welcome. RSVP by 4/21. *Space limited.
X-WR-RELCALID:4f961fb725dcdc22f4f1363bafa3f5dc
X-WR-TIMEZONE:America/New_York
BEGIN:VTIMEZONE
TZID:America/New_York
BEGIN:STANDARD
TZNAME:EST
DTSTART:20251102T020000
TZOFFSETFROM:-0400
TZOFFSETTO:-0500
RDATE:20261101T020000
END:STANDARD
BEGIN:DAYLIGHT
TZNAME:EDT
DTSTART:20260308T020000
TZOFFSETFROM:-0500
TZOFFSETTO:-0400
RDATE:20270314T020000
END:DAYLIGHT
END:VTIMEZONE
BEGIN:VEVENT
UID:3395a290-770d-474f-9563-0e108c1e30aa
DTSTAMP:20260423T061353Z
DESCRIPTION:Sue Pummer will lead us in a fun fiber art technique where we w
 ill sculpt wool into a charming\nthree-dimensional mushroom. This is a rel
 axing\, beginner-friendly craft. Complex sculptures\ncan be mastered with 
 practice and patience. Donations Welcome. RSVP by 4/21. *Space limited.
DTSTART;TZID=America/New_York:20260422T130000
DTEND;TZID=America/New_York:20260422T140000
LOCATION:The Center 517 Jefferson St\, East Greenville\, PA 18041 US
SUMMARY:Needle Felting Workshop at The Center
END:VEVENT
END:VCALENDAR
