BEGIN:VCALENDAR
VERSION:2.0
PRODID:-//theopenlink.org//NONSGML kigkonsult.se iCalcreator 2.30.10//
CALSCALE:GREGORIAN
METHOD:PUBLISH
UID:3124a67e-2fd8-42ba-b763-7d83373c145d
X-WR-CALDESC:Celebrate two staples of our Pennsylvania Dutch culture. Enjoy
  a tasty soft pretzel while we\ntap our feet to some peppy polka tunes. Do
 nations Encouraged. RSVP by 4/26.
X-WR-RELCALID:c0fea52b32635286c6d259d4404e3378
X-WR-TIMEZONE:America/New_York
BEGIN:VTIMEZONE
TZID:America/New_York
BEGIN:STANDARD
TZNAME:EST
DTSTART:20251102T020000
TZOFFSETFROM:-0400
TZOFFSETTO:-0500
RDATE:20261101T020000
END:STANDARD
BEGIN:DAYLIGHT
TZNAME:EDT
DTSTART:20260308T020000
TZOFFSETFROM:-0500
TZOFFSETTO:-0400
RDATE:20270314T020000
END:DAYLIGHT
END:VTIMEZONE
BEGIN:VEVENT
UID:570ee122-e300-48f2-bcc6-cde3ac63a1e0
DTSTAMP:20260423T062205Z
DESCRIPTION:Celebrate two staples of our Pennsylvania Dutch culture. Enjoy 
 a tasty soft pretzel while we\ntap our feet to some peppy polka tunes. Don
 ations Encouraged. RSVP by 4/26.
DTSTART;TZID=America/New_York:20260427T123000
DTEND;TZID=America/New_York:20260427T140000
LOCATION:The Center 517 Jefferson St\, East Greenville\, PA 18041 US
SUMMARY:Pretzels & Polka at The Center
END:VEVENT
END:VCALENDAR
