BEGIN:VCALENDAR
VERSION:2.0
PRODID:-//theopenlink.org//NONSGML kigkonsult.se iCalcreator 2.30.10//
CALSCALE:GREGORIAN
METHOD:PUBLISH
UID:019bcaa7-52ba-4c04-ae75-46f2aa6f4900
X-WR-CALDESC:Visit the mobile satellite office that can:\nIssue mail-in bal
 lots on the spot to registered\nMontgomery County voters\nUpdate your vote
 r's registration\nAccept completed mail-in ballots to bring\nback to their
  secure warehouse\nAvoid lines at the polls or needing to mail\nmaterials 
 to the Norristown office.\nNo Appointment or RSVP Necessary.
X-WR-RELCALID:c5b0c593d3b5cc6fb81f1584df05af1b
X-WR-TIMEZONE:America/New_York
BEGIN:VTIMEZONE
TZID:America/New_York
BEGIN:STANDARD
TZNAME:EST
DTSTART:20251102T020000
TZOFFSETFROM:-0400
TZOFFSETTO:-0500
RDATE:20261101T020000
END:STANDARD
BEGIN:DAYLIGHT
TZNAME:EDT
DTSTART:20260308T020000
TZOFFSETFROM:-0500
TZOFFSETTO:-0400
RDATE:20270314T020000
END:DAYLIGHT
END:VTIMEZONE
BEGIN:VEVENT
UID:9ba4fbb6-da0f-4178-af7c-195bca8b6ec4
DTSTAMP:20260423T062114Z
DESCRIPTION:Visit the mobile satellite office that can:\nIssue mail-in ball
 ots on the spot to registered\nMontgomery County voters\nUpdate your voter
 's registration\nAccept completed mail-in ballots to bring\nback to their 
 secure warehouse\nAvoid lines at the polls or needing to mail\nmaterials t
 o the Norristown office.\nNo Appointment or RSVP Necessary.
DTSTART;TZID=America/New_York:20260428T110000
DTEND;TZID=America/New_York:20260428T130000
LOCATION:The Center 517 Jefferson St\, East Greenville\, PA 18041 US
SUMMARY:Voter Van at The Center
END:VEVENT
END:VCALENDAR
