BEGIN:VCALENDAR
VERSION:2.0
PRODID:-//theopenlink.org//NONSGML kigkonsult.se iCalcreator 2.30.10//
CALSCALE:GREGORIAN
METHOD:PUBLISH
UID:b99d67a0-fa6e-4285-9e7d-ebd41abcbcb5
X-WR-CALDESC:
X-WR-RELCALID:44ae5779615f0a2f7d86379ea7edff0d
X-WR-TIMEZONE:America/New_York
BEGIN:VTIMEZONE
TZID:America/New_York
BEGIN:STANDARD
TZNAME:EST
DTSTART:20251102T020000
TZOFFSETFROM:-0400
TZOFFSETTO:-0500
RDATE:20261101T020000
END:STANDARD
BEGIN:DAYLIGHT
TZNAME:EDT
DTSTART:20260308T020000
TZOFFSETFROM:-0500
TZOFFSETTO:-0400
RDATE:20270314T020000
END:DAYLIGHT
END:VTIMEZONE
BEGIN:VEVENT
UID:d4fd520c-00a5-4187-bcc4-b1896de13af9
DTSTAMP:20260423T061837Z
DESCRIPTION:
DTSTART;TZID=America/New_York:20260428T130000
DTEND;TZID=America/New_York:20260428T143000
LOCATION:The Center 517 Jefferson St\, East Greenville\, PA 18041 US
SUMMARY:Welcome to The Center
END:VEVENT
END:VCALENDAR
