BEGIN:VCALENDAR
VERSION:2.0
PRODID:-//theopenlink.org//NONSGML kigkonsult.se iCalcreator 2.30.10//
CALSCALE:GREGORIAN
METHOD:PUBLISH
UID:6c7fbdc6-61be-41f9-8735-cca2a420154a
X-WR-CALDESC:Is your birthday in April? We want to celebrate you! Everyone 
 is welcome. Help us honor\nspecial guests with cake and a fun game or acti
 vity. No Cost. RSVP by 4/28.
X-WR-RELCALID:1aa3ed8d84224af2c92e685e250fd5b8
X-WR-TIMEZONE:America/New_York
BEGIN:VTIMEZONE
TZID:America/New_York
BEGIN:STANDARD
TZNAME:EST
DTSTART:20251102T020000
TZOFFSETFROM:-0400
TZOFFSETTO:-0500
RDATE:20261101T020000
END:STANDARD
BEGIN:DAYLIGHT
TZNAME:EDT
DTSTART:20260308T020000
TZOFFSETFROM:-0500
TZOFFSETTO:-0400
RDATE:20270314T020000
END:DAYLIGHT
END:VTIMEZONE
BEGIN:VEVENT
UID:952b22df-36cc-415b-9790-dc7ad1eb199d
DTSTAMP:20260423T085924Z
DESCRIPTION:Is your birthday in April? We want to celebrate you! Everyone i
 s welcome. Help us honor\nspecial guests with cake and a fun game or activ
 ity. No Cost. RSVP by 4/28.
DTSTART;TZID=America/New_York:20260429T123000
DTEND;TZID=America/New_York:20260429T140000
LOCATION:The Center 517 Jefferson St\, East Greenville\, PA 18041 US
SUMMARY:Birthday Party at The Center
END:VEVENT
END:VCALENDAR
