BEGIN:VCALENDAR
VERSION:2.0
PRODID:-//theopenlink.org//NONSGML kigkonsult.se iCalcreator 2.30.10//
CALSCALE:GREGORIAN
METHOD:PUBLISH
UID:22527217-c439-46cd-b2dd-1ab2f83a0b6d
X-WR-CALDESC:Nearly everyone is aware that 9-1-1 is the emergency number\, 
 and many people have had to\nuse it. But what is 9-1-1? How does it work? 
 Todd Stieritz\, Deputy Director - Public Affairs for the\nMontgomery Count
 y Office of Public Safety will answer those questions. No Cost. RSVP by 4/
 29.
X-WR-RELCALID:7c647c1305edb83117fd3808b8087083
X-WR-TIMEZONE:America/New_York
BEGIN:VTIMEZONE
TZID:America/New_York
BEGIN:STANDARD
TZNAME:EST
DTSTART:20251102T020000
TZOFFSETFROM:-0400
TZOFFSETTO:-0500
RDATE:20261101T020000
END:STANDARD
BEGIN:DAYLIGHT
TZNAME:EDT
DTSTART:20260308T020000
TZOFFSETFROM:-0500
TZOFFSETTO:-0400
RDATE:20270314T020000
END:DAYLIGHT
END:VTIMEZONE
BEGIN:VEVENT
UID:f597a428-45e4-4f6c-a2d4-384fbb1da8fc
DTSTAMP:20260423T062348Z
DESCRIPTION:Nearly everyone is aware that 9-1-1 is the emergency number\, a
 nd many people have had to\nuse it. But what is 9-1-1? How does it work? T
 odd Stieritz\, Deputy Director - Public Affairs for the\nMontgomery County
  Office of Public Safety will answer those questions. No Cost. RSVP by 4/2
 9.
DTSTART;TZID=America/New_York:20260430T123000
DTEND;TZID=America/New_York:20260430T133000
LOCATION:The Center 517 Jefferson St\, East Greenville\, PA 18041 US
SUMMARY:Demystifying 9-1-1 at The Center
END:VEVENT
END:VCALENDAR
